BEGIN:VCALENDAR
VERSION:2.0
PRODID:-// - ECPv4.6.16//NONSGML v1.0//EN
CALSCALE:GREGORIAN
METHOD:PUBLISH
X-ORIGINAL-URL:http://www.letrognon.com/bienvillers
X-WR-CALDESC:Events for 
BEGIN:VEVENT
DTSTART;VALUE=DATE:20190714
DTEND;VALUE=DATE:20190715
DTSTAMP:20260421T093845
CREATED:20190524T142446Z
LAST-MODIFIED:20190524T142446Z
UID:3312-1563062400-1563148799@www.letrognon.com
SUMMARY:Rassemblement de solex et mobylettes
DESCRIPTION:\n
URL:http://www.letrognon.com/bienvillers/event/rassemblement-de-solex-et-mobylettes/
CATEGORIES:Mairie,Vie associative
END:VEVENT
BEGIN:VEVENT
DTSTART;TZID=Europe/Paris:20190714T103000
DTEND;TZID=Europe/Paris:20190714T110000
DTSTAMP:20260421T093845
CREATED:20190524T143816Z
LAST-MODIFIED:20190524T143816Z
UID:3329-1563100200-1563102000@www.letrognon.com
SUMMARY:Commémoration de la Fête Nationale
DESCRIPTION:\n
URL:http://www.letrognon.com/bienvillers/event/commemoration-de-la-fete-nationale/
CATEGORIES:Citoyenneté,Mairie
END:VEVENT
BEGIN:VEVENT
DTSTART;TZID=Europe/Paris:20190714T110000
DTEND;TZID=Europe/Paris:20190714T113000
DTSTAMP:20260421T093845
CREATED:20190524T143925Z
LAST-MODIFIED:20190524T143925Z
UID:3332-1563102000-1563103800@www.letrognon.com
SUMMARY:Lâcher de pigeons
DESCRIPTION:\n
URL:http://www.letrognon.com/bienvillers/event/lacher-de-pigeons/
CATEGORIES:Mairie,Vie associative
END:VEVENT
BEGIN:VEVENT
DTSTART;TZID=Europe/Paris:20190714T113000
DTEND;TZID=Europe/Paris:20190714T130000
DTSTAMP:20260421T093845
CREATED:20190524T144022Z
LAST-MODIFIED:20190524T144320Z
UID:3334-1563103800-1563109200@www.letrognon.com
SUMMARY:Jeux gratuits
DESCRIPTION:\n
URL:http://www.letrognon.com/bienvillers/event/jeux-gratuits/
CATEGORIES:Mairie
END:VEVENT
BEGIN:VEVENT
DTSTART;TZID=Europe/Paris:20190714T160000
DTEND;TZID=Europe/Paris:20190714T200000
DTSTAMP:20260421T093845
CREATED:20190524T144647Z
LAST-MODIFIED:20190524T144647Z
UID:3336-1563120000-1563134400@www.letrognon.com
SUMMARY:Défilé le mariage de Batich et Milufine
DESCRIPTION:\n
URL:http://www.letrognon.com/bienvillers/event/defile-le-mariage-de-batich-et-milufine/
CATEGORIES:Mairie
END:VEVENT
BEGIN:VEVENT
DTSTART;TZID=Europe/Paris:20190714T200000
DTEND;TZID=Europe/Paris:20190714T235900
DTSTAMP:20260421T093845
CREATED:20190524T144749Z
LAST-MODIFIED:20190524T145518Z
UID:3341-1563134400-1563148740@www.letrognon.com
SUMMARY:Karaoké des Coccinelles
DESCRIPTION:\n
URL:http://www.letrognon.com/bienvillers/event/karaoke-des-coccinelles/
CATEGORIES:Mairie
END:VEVENT
END:VCALENDAR