BEGIN:VCALENDAR
VERSION:2.0
PRODID:-// - ECPv4.6.16//NONSGML v1.0//EN
CALSCALE:GREGORIAN
METHOD:PUBLISH
X-ORIGINAL-URL:http://www.letrognon.com/bienvillers
X-WR-CALDESC:Events for 
BEGIN:VEVENT
DTSTART;VALUE=DATE:20190713
DTEND;VALUE=DATE:20190714
DTSTAMP:20260421T093844
CREATED:20190518T074350Z
LAST-MODIFIED:20190518T080024Z
UID:3266-1562976000-1563062399@www.letrognon.com
SUMMARY:Cocci Fun - 2ème édition
DESCRIPTION:\n  \n
URL:http://www.letrognon.com/bienvillers/event/cocci-fun-2eme-edition/
CATEGORIES:Mairie,Vie associative
END:VEVENT
BEGIN:VEVENT
DTSTART;TZID=Europe/Paris:20190713T103000
DTEND;TZID=Europe/Paris:20190713T120000
DTSTAMP:20260421T093844
CREATED:20190702T084932Z
LAST-MODIFIED:20190702T084932Z
UID:3435-1563013800-1563019200@www.letrognon.com
SUMMARY:Fermeture de la Médiathèque Municipale
DESCRIPTION:La Médiathèque Municipale sera exceptionnellement fermée ce samedi 13 juillet 2019 de 10h30 à 12h. \n
URL:http://www.letrognon.com/bienvillers/event/fermeture-de-la-mediatheque-municipale/
CATEGORIES:Mairie
END:VEVENT
BEGIN:VEVENT
DTSTART;TZID=Europe/Paris:20190713T140000
DTEND;TZID=Europe/Paris:20190713T220000
DTSTAMP:20260421T093844
CREATED:20190518T074927Z
LAST-MODIFIED:20190518T074927Z
UID:3273-1563026400-1563055200@www.letrognon.com
SUMMARY:Brocante des Coccinelles
DESCRIPTION:\n
URL:http://www.letrognon.com/bienvillers/event/brocante-des-coccinelles/
CATEGORIES:Mairie
END:VEVENT
BEGIN:VEVENT
DTSTART;TZID=Europe/Paris:20190713T160000
DTEND;TZID=Europe/Paris:20190713T170000
DTSTAMP:20260421T093844
CREATED:20190518T075418Z
LAST-MODIFIED:20190518T075418Z
UID:3281-1563033600-1563037200@www.letrognon.com
SUMMARY:Démonstration de Viet Vo Dao
DESCRIPTION:\n
URL:http://www.letrognon.com/bienvillers/event/demonstration-de-viet-vo-dao/
LOCATION:Place du 8 mai 1945\, BIENVILLERS AU BOIS\, 62 111
CATEGORIES:Mairie,Vie associative
END:VEVENT
BEGIN:VEVENT
DTSTART;TZID=Europe/Paris:20190713T180000
DTEND;TZID=Europe/Paris:20190713T235900
DTSTAMP:20260421T093844
CREATED:20190518T075934Z
LAST-MODIFIED:20190518T075934Z
UID:3290-1563040800-1563062340@www.letrognon.com
SUMMARY:Apéritif concert
DESCRIPTION:\n
URL:http://www.letrognon.com/bienvillers/event/aperitif-concert/
CATEGORIES:Mairie
END:VEVENT
END:VCALENDAR