BEGIN:VCALENDAR
VERSION:2.0
PRODID:-// - ECPv4.6.16//NONSGML v1.0//EN
CALSCALE:GREGORIAN
METHOD:PUBLISH
X-ORIGINAL-URL:http://www.letrognon.com/bienvillers
X-WR-CALDESC:Events for 
BEGIN:VEVENT
DTSTART;TZID=Europe/Paris:20190628T174500
DTEND;TZID=Europe/Paris:20190628T183000
DTSTAMP:20260422T093130
CREATED:20190622T065655Z
LAST-MODIFIED:20190622T065655Z
UID:3419-1561743900-1561746600@www.letrognon.com
SUMMARY:Cérémonies des futurs collégiens
DESCRIPTION:La cérémonie des futurs collégiens a lieu ce vendredi 28 juin 2019 à 17h45 dans la cour de l’école. \n
URL:http://www.letrognon.com/bienvillers/event/ceremonies-des-futurs-collegiens/
LOCATION:3 rue de Pommier\, BIENVILLERS AU BOIS\, 62 111
CATEGORIES:Mairie,Scolaire
END:VEVENT
BEGIN:VEVENT
DTSTART;TZID=Europe/Paris:20190628T183000
DTEND;TZID=Europe/Paris:20190628T200000
DTSTAMP:20260422T093130
CREATED:20190622T065838Z
LAST-MODIFIED:20190622T065838Z
UID:3421-1561746600-1561752000@www.letrognon.com
SUMMARY:Réunion de Conseil Municipal
DESCRIPTION:Le Conseil Municipal se réunit le vendredi 28 juin 2019 à 18h30. \n
URL:http://www.letrognon.com/bienvillers/event/reunion-de-conseil-municipal/
LOCATION:Mairie de Bienvillers au Bois\, BIENVILLERS AU BOIS\, 62 111
CATEGORIES:Mairie
END:VEVENT
END:VCALENDAR