BEGIN:VCALENDAR
VERSION:2.0
PRODID:-// - ECPv4.6.16//NONSGML v1.0//EN
CALSCALE:GREGORIAN
METHOD:PUBLISH
X-ORIGINAL-URL:http://www.letrognon.com/bienvillers
X-WR-CALDESC:Events for 
BEGIN:VEVENT
DTSTART;TZID=Europe/Paris:20190618T185000
DTEND;TZID=Europe/Paris:20190618T203000
DTSTAMP:20260423T020210
CREATED:20190612T082228Z
LAST-MODIFIED:20190612T092630Z
UID:3399-1560883800-1560889800@www.letrognon.com
SUMMARY:Commémoration du 79ème anniversaire de l'appel du 18 juin 1940
DESCRIPTION:\n
URL:http://www.letrognon.com/bienvillers/event/commemoration-du-79eme-anniversaire-de-lappel-du-18-juin-1940/
CATEGORIES:Citoyenneté,Mairie,Vie associative
END:VEVENT
END:VCALENDAR