BEGIN:VCALENDAR
VERSION:2.0
PRODID:-// - ECPv4.6.16//NONSGML v1.0//EN
CALSCALE:GREGORIAN
METHOD:PUBLISH
X-ORIGINAL-URL:http://www.letrognon.com/bienvillers
X-WR-CALDESC:Events for 
BEGIN:VEVENT
DTSTART;TZID=Europe/Paris:20190529T153000
DTEND;TZID=Europe/Paris:20190529T180000
DTSTAMP:20260424T071910
CREATED:20190524T124729Z
LAST-MODIFIED:20190524T124813Z
UID:3307-1559143800-1559152800@www.letrognon.com
SUMMARY:Fermeture des bureaux
DESCRIPTION:LE SECRETARIAT DE MAIRIE ET L’AGENCE POSTALE COMMUNALE\nSERONT FERMES CE MERCREDI 29 MAI 2019 DE 15H30 A 18H00. \nPENDANT CETTE PERIODE\, POUR VOS OPERATIONS POSTALES\, VEUILLEZ VOUS RAPPROCHER DU BUREAU DE BEAUMETZ LES LOGES DE 9H-12H / 14H-17H. \nPOUR TOUTE DEMANDE URGENTE EN MAIRIE\, VEUILLEZ TELEPHONER AU 03 21 07 65 53. \n
URL:http://www.letrognon.com/bienvillers/event/fermeture-des-bureaux-17/
CATEGORIES:Mairie
END:VEVENT
END:VCALENDAR