BEGIN:VCALENDAR
VERSION:2.0
PRODID:-// - ECPv4.6.16//NONSGML v1.0//EN
CALSCALE:GREGORIAN
METHOD:PUBLISH
X-ORIGINAL-URL:http://www.letrognon.com/bienvillers
X-WR-CALDESC:Events for 
BEGIN:VEVENT
DTSTART;TZID=Europe/Paris:20220124T083000
DTEND;TZID=Europe/Paris:20220728T180000
DTSTAMP:20260426T042647
CREATED:20211027T135036Z
LAST-MODIFIED:20220204T153912Z
UID:5044-1643013000-1659031200@www.letrognon.com
SUMMARY:Changement des horaires de l’Agence Postale Communale et du Secrétariat de Mairie
DESCRIPTION:A compter du lundi 24 janvier 2022\, la Mairie et l’Agence Postale Communale seront fermés le mardi et ouvertes le jeudi : \nLundi       : 09h00 / 12h00 – 14h00 / 18h30 \nMardi      : Fermé \nMercredi : 08h30 / 12h00 – 13h30 / 18h00 \nJeudi        : 08h30 / 12h00 – 13h30 / 18h00 \nVendredi  : 08h30 / 12h00 – 13h30 / 18h00 \nSamedi     : 08h30 / 12h00 \n
URL:http://www.letrognon.com/bienvillers/event/ouverture-de-lagence-postale-communale-et-du-secretariat-de-mairie-14/
END:VEVENT
BEGIN:VEVENT
DTSTART;TZID=Europe/Paris:20220410T080000
DTEND;TZID=Europe/Paris:20220410T190000
DTSTAMP:20260426T042647
CREATED:20220331T131420Z
LAST-MODIFIED:20220331T131614Z
UID:5361-1649577600-1649617200@www.letrognon.com
SUMMARY:1er tour - Election du Président de la République
DESCRIPTION:Le 1er tour de l’élection présidentielle a lieu le dimanche 10 avril 2022. Le bureau de vote se tiendra\, de 8h à 19h\, dans la salle de motricité de l’école (accès par la cour) ! Attention\, aux mesures sanitaires en vigueur ! \n
URL:http://www.letrognon.com/bienvillers/event/1er-tour-election-du-president-de-la-republique/
END:VEVENT
END:VCALENDAR