BEGIN:VCALENDAR
VERSION:2.0
PRODID:-// - ECPv4.6.16//NONSGML v1.0//EN
CALSCALE:GREGORIAN
METHOD:PUBLISH
X-ORIGINAL-URL:http://www.letrognon.com/bienvillers
X-WR-CALDESC:Events for 
BEGIN:VEVENT
DTSTART;TZID=Europe/Paris:20220124T083000
DTEND;TZID=Europe/Paris:20220728T180000
DTSTAMP:20260422T130611
CREATED:20211027T135036Z
LAST-MODIFIED:20220204T153912Z
UID:5044-1643013000-1659031200@www.letrognon.com
SUMMARY:Changement des horaires de l’Agence Postale Communale et du Secrétariat de Mairie
DESCRIPTION:A compter du lundi 24 janvier 2022\, la Mairie et l’Agence Postale Communale seront fermés le mardi et ouvertes le jeudi : \nLundi       : 09h00 / 12h00 – 14h00 / 18h30 \nMardi      : Fermé \nMercredi : 08h30 / 12h00 – 13h30 / 18h00 \nJeudi        : 08h30 / 12h00 – 13h30 / 18h00 \nVendredi  : 08h30 / 12h00 – 13h30 / 18h00 \nSamedi     : 08h30 / 12h00 \n
URL:http://www.letrognon.com/bienvillers/event/ouverture-de-lagence-postale-communale-et-du-secretariat-de-mairie-14/
END:VEVENT
BEGIN:VEVENT
DTSTART;TZID=Europe/Paris:20220312T080000
DTEND;TZID=Europe/Paris:20220313T200000
DTSTAMP:20260422T130612
CREATED:20220309T110344Z
LAST-MODIFIED:20220309T110344Z
UID:5287-1647072000-1647201600@www.letrognon.com
SUMMARY:Collecte pour l'Ukraine
DESCRIPTION:\n
URL:http://www.letrognon.com/bienvillers/event/collecte-pour-lukraine/
END:VEVENT
BEGIN:VEVENT
DTSTART;TZID=Europe/Paris:20220312T193000
DTEND;TZID=Europe/Paris:20220312T193000
DTSTAMP:20260422T130612
CREATED:20220214T132032Z
LAST-MODIFIED:20220221T162203Z
UID:5229-1647113400-1647113400@www.letrognon.com
SUMMARY:Repas Société de Chasse de Bienvillers au Bois
DESCRIPTION:\n
URL:http://www.letrognon.com/bienvillers/event/repas-societe-de-chasse-de-bienvillers-au-bois-2/
CATEGORIES:Vie associative
END:VEVENT
END:VCALENDAR