BEGIN:VCALENDAR
VERSION:2.0
PRODID:-// - ECPv4.6.16//NONSGML v1.0//EN
CALSCALE:GREGORIAN
METHOD:PUBLISH
X-ORIGINAL-URL:http://www.letrognon.com/bienvillers
X-WR-CALDESC:Events for 
BEGIN:VEVENT
DTSTART;TZID=Europe/Paris:20170102T080000
DTEND;TZID=Europe/Paris:20170102T090000
DTSTAMP:20260423T042320
CREATED:20161019T075401Z
LAST-MODIFIED:20161108T202319Z
UID:175-1483344000-1483347600@www.letrognon.com
SUMMARY:Vœux du maire
DESCRIPTION:
URL:http://www.letrognon.com/bienvillers/event/voeux-du-maire/
END:VEVENT
END:VCALENDAR