BEGIN:VCALENDAR
VERSION:2.0
PRODID:-// - ECPv4.6.16//NONSGML v1.0//EN
CALSCALE:GREGORIAN
METHOD:PUBLISH
X-ORIGINAL-URL:http://www.letrognon.com/bienvillers
X-WR-CALDESC:Events for 
BEGIN:VEVENT
DTSTART;TZID=Europe/Paris:20170421T150000
DTEND;TZID=Europe/Paris:20170421T190000
DTSTAMP:20260422T035644
CREATED:20170412T071940Z
LAST-MODIFIED:20170412T071940Z
UID:903-1492786800-1492801200@www.letrognon.com
SUMMARY:Venez donner votre sang !
DESCRIPTION:\n
URL:http://www.letrognon.com/bienvillers/event/venez-donner-votre-sang-2/
LOCATION:rue Camille Camus\, Berles au Bois\, Région des Hauts de France - Département du Pas de Calais\, 62123\, France
CATEGORIES:Citoyenneté
END:VEVENT
END:VCALENDAR