BEGIN:VCALENDAR
VERSION:2.0
PRODID:-// - ECPv4.6.16//NONSGML v1.0//EN
CALSCALE:GREGORIAN
METHOD:PUBLISH
X-ORIGINAL-URL:http://www.letrognon.com/bienvillers
X-WR-CALDESC:Events for 
BEGIN:VEVENT
DTSTART;TZID=Europe/Paris:20181203T200000
DTEND;TZID=Europe/Paris:20181203T210000
DTSTAMP:20260421T213512
CREATED:20181128T104524Z
LAST-MODIFIED:20181128T104524Z
UID:2798-1543867200-1543870800@www.letrognon.com
SUMMARY:Un moment en bibli
DESCRIPTION:Animation sur le thème du portage\, le lundi 3 décembre 2018 à 20h00\, à la Médiathèque Municipale de Bienvillers-au-Bois. Renseignements et inscription au 03.21.41.40.00 ! \n\n
URL:http://www.letrognon.com/bienvillers/event/un-moment-en-bibli/
LOCATION:2 rue Saint Etton\, Bienvillers-au-Bois\, 62 111
CATEGORIES:Communauté de Communes,Mairie
END:VEVENT
END:VCALENDAR