BEGIN:VCALENDAR
VERSION:2.0
PRODID:-// - ECPv4.6.16//NONSGML v1.0//EN
CALSCALE:GREGORIAN
METHOD:PUBLISH
X-ORIGINAL-URL:http://www.letrognon.com/bienvillers
X-WR-CALDESC:Events for 
BEGIN:VEVENT
DTSTART;TZID=Europe/Paris:20170501T140000
DTEND;TZID=Europe/Paris:20170501T150000
DTSTAMP:20260421T230414
CREATED:20170412T073738Z
LAST-MODIFIED:20170412T073738Z
UID:908-1493647200-1493650800@www.letrognon.com
SUMMARY:Tyr du Roy 2017
DESCRIPTION:\n
URL:http://www.letrognon.com/bienvillers/event/tyr-du-roy-2017/
LOCATION:rue de l'Argilière\, Bienvillers-au-Bois\, 62111\, France Métropolitaine
CATEGORIES:Vie associative
END:VEVENT
END:VCALENDAR