BEGIN:VCALENDAR
VERSION:2.0
PRODID:-// - ECPv4.6.16//NONSGML v1.0//EN
CALSCALE:GREGORIAN
METHOD:PUBLISH
X-ORIGINAL-URL:http://www.letrognon.com/bienvillers
X-WR-CALDESC:Events for 
BEGIN:VEVENT
DTSTART;TZID=Europe/Paris:20191020T100000
DTEND;TZID=Europe/Paris:20191020T120000
DTSTAMP:20260421T042353
CREATED:20191007T090020Z
LAST-MODIFIED:20191007T090020Z
UID:3604-1571565600-1571572800@www.letrognon.com
SUMMARY:Troc-plantes
DESCRIPTION:Soyez nombreux à l’opération troc-plantes\, le dimanche 20 octobre 2019 de 10h à 12h\, dans le cadre de la journée découverte des médiathèques ! \n\n
URL:http://www.letrognon.com/bienvillers/event/troc-plantes/
LOCATION:2 rue Saint Etton\, Bienvillers-au-Bois\, 62 111
CATEGORIES:Citoyenneté,Communauté de Communes,Mairie
END:VEVENT
END:VCALENDAR