BEGIN:VCALENDAR
VERSION:2.0
PRODID:-// - ECPv4.6.16//NONSGML v1.0//EN
CALSCALE:GREGORIAN
METHOD:PUBLISH
X-ORIGINAL-URL:http://www.letrognon.com/bienvillers
X-WR-CALDESC:Events for 
BEGIN:VEVENT
DTSTART;TZID=Europe/Paris:20180428T083000
DTEND;TZID=Europe/Paris:20180428T230000
DTSTAMP:20260422T054506
CREATED:20171218T161758Z
LAST-MODIFIED:20180420T152053Z
UID:1696-1524904200-1524956400@www.letrognon.com
SUMMARY:Fermeture des bureaux
DESCRIPTION:Le Secrétariat de Mairie et l’Agence Postale Communale seront fermés le samedi 28 avril 2018 au matin. Pendant cette période\, pour vos opérations\, veuillez vous rapprocher du bureau de Foncquevillers 9h – 12h. \nPour toute demande urgente en Mairie\, veuillez téléphoner au 03 21 07 65 53 \n
URL:http://www.letrognon.com/bienvillers/event/tournoi-regional-tennis-de-table/
CATEGORIES:Mairie
END:VEVENT
END:VCALENDAR