BEGIN:VCALENDAR
VERSION:2.0
PRODID:-// - ECPv4.6.16//NONSGML v1.0//EN
CALSCALE:GREGORIAN
METHOD:PUBLISH
X-ORIGINAL-URL:http://www.letrognon.com/bienvillers
X-WR-CALDESC:Events for 
BEGIN:VEVENT
DTSTART;TZID=Europe/Paris:20190501T143000
DTEND;TZID=Europe/Paris:20190501T153000
DTSTAMP:20260421T145345
CREATED:20190419T124400Z
LAST-MODIFIED:20190419T124400Z
UID:3176-1556721000-1556724600@www.letrognon.com
SUMMARY:Tir du Roy 2019
DESCRIPTION:\n
URL:http://www.letrognon.com/bienvillers/event/tir-du-roy-2019/
LOCATION:rue de l'Argilière\, Bienvillers-au-Bois\, 62111\, France Métropolitaine
CATEGORIES:Sport,Vie associative
ATTACH;FMTTYPE=image/jpeg:http://www.letrognon.com/bienvillers/wp-content/uploads/2018/04/logo-archers-reunis-monchy-bienvillers.jpg
END:VEVENT
END:VCALENDAR