BEGIN:VCALENDAR
VERSION:2.0
PRODID:-// - ECPv4.6.16//NONSGML v1.0//EN
CALSCALE:GREGORIAN
METHOD:PUBLISH
X-ORIGINAL-URL:http://www.letrognon.com/bienvillers
X-WR-CALDESC:Events for 
BEGIN:VEVENT
DTSTART;TZID=Europe/Paris:20191207T133000
DTEND;TZID=Europe/Paris:20191207T190000
DTSTAMP:20260421T042025
CREATED:20191106T103442Z
LAST-MODIFIED:20191106T103442Z
UID:3720-1575725400-1575745200@www.letrognon.com
SUMMARY:Téléthon 2019
DESCRIPTION:\n
URL:http://www.letrognon.com/bienvillers/event/telethon-2019/
LOCATION:Saint Amand\, 62760
CATEGORIES:Citoyenneté,Vie associative
END:VEVENT
END:VCALENDAR