BEGIN:VCALENDAR
VERSION:2.0
PRODID:-// - ECPv4.6.16//NONSGML v1.0//EN
CALSCALE:GREGORIAN
METHOD:PUBLISH
X-ORIGINAL-URL:http://www.letrognon.com/bienvillers
X-WR-CALDESC:Events for 
BEGIN:VEVENT
DTSTART;TZID=Europe/Paris:20170916T213000
DTEND;TZID=Europe/Paris:20170916T223000
DTSTAMP:20260422T084214
CREATED:20170912T065350Z
LAST-MODIFIED:20170912T070727Z
UID:1245-1505597400-1505601000@www.letrognon.com
SUMMARY:Spectacle de projection monumentale sur l'église
DESCRIPTION:A l’occasion des Journées du Patrimoine\, un spectacle de projection monumentale sur l’église est prévu le Samedi 16 Septembre à 21h30. \nVenez nombreux ! \n
URL:http://www.letrognon.com/bienvillers/event/spectacle-projection-monumentale-eglise/
LOCATION:rue du Bois\, Bienvillers-au-Bois\, 62111\, France
CATEGORIES:Mairie
ATTACH;FMTTYPE=image/jpeg:http://www.letrognon.com/bienvillers/wp-content/uploads/2017/09/logo-journee-patrimoine-bienvillersaubois-16-septembre-2017.jpg
ORGANIZER;CN="Mairie%20de%20Bienvillers%20au%20Bois":MAILTO:mairie@bienvillers.org
END:VEVENT
END:VCALENDAR