BEGIN:VCALENDAR
VERSION:2.0
PRODID:-// - ECPv4.6.16//NONSGML v1.0//EN
CALSCALE:GREGORIAN
METHOD:PUBLISH
X-ORIGINAL-URL:http://www.letrognon.com/bienvillers
X-WR-CALDESC:Events for 
BEGIN:VEVENT
DTSTART;TZID=Europe/Paris:20180217T183000
DTEND;TZID=Europe/Paris:20180217T183000
DTSTAMP:20260421T195424
CREATED:20171213T130321Z
LAST-MODIFIED:20171213T132032Z
UID:1676-1518892200-1518892200@www.letrognon.com
SUMMARY:Soirée carnaval des pongistes
DESCRIPTION:L’Amicale des Pongistes de Bienvillers vous invite à leur soirée carnaval le samedi 17 février 2018\, à partir de 18h30 à la salle des fêtes rue de la Louvière. \nAu menu : \nCocktail de Bienvenue Ses Mignardises Chaudes Plancha Géante et ses salades Dessert Café Concours des 3 plus beaux déguisements !  \nInscriptions par téléphone au 03.21.07.21.72 / 06.83.07.22.54  \n
URL:http://www.letrognon.com/bienvillers/event/soiree-carnaval-des-pongistes/
CATEGORIES:Vie associative
ATTACH;FMTTYPE=image/jpeg:http://www.letrognon.com/bienvillers/wp-content/uploads/2017/12/logo-repas-carnaval-pongistes.jpg
END:VEVENT
END:VCALENDAR