BEGIN:VCALENDAR
VERSION:2.0
PRODID:-// - ECPv4.6.16//NONSGML v1.0//EN
CALSCALE:GREGORIAN
METHOD:PUBLISH
X-ORIGINAL-URL:http://www.letrognon.com/bienvillers
X-WR-CALDESC:Events for 
BEGIN:VEVENT
DTSTART;TZID=Europe/Paris:20240828T143000
DTEND;TZID=Europe/Paris:20240828T190000
DTSTAMP:20260419T132921
CREATED:20240817T074425Z
LAST-MODIFIED:20240817T074425Z
UID:8477-1724855400-1724871600@www.letrognon.com
SUMMARY:Saveurs et savoir faire
DESCRIPTION:\n
URL:http://www.letrognon.com/bienvillers/event/saveurs-et-savoir-faire/
END:VEVENT
END:VCALENDAR