BEGIN:VCALENDAR
VERSION:2.0
PRODID:-// - ECPv4.6.16//NONSGML v1.0//EN
CALSCALE:GREGORIAN
METHOD:PUBLISH
X-ORIGINAL-URL:http://www.letrognon.com/bienvillers
X-WR-CALDESC:Events for 
BEGIN:VEVENT
DTSTART;TZID=Europe/Paris:20180627T183000
DTEND;TZID=Europe/Paris:20180627T200000
DTSTAMP:20260421T231706
CREATED:20180516T075814Z
LAST-MODIFIED:20180516T075814Z
UID:2120-1530124200-1530129600@www.letrognon.com
SUMMARY:Réunion Publique sur le SCOTA
DESCRIPTION:\n
URL:http://www.letrognon.com/bienvillers/event/reunion-publique-sur-le-scota/
LOCATION:1050 Avenue François Mitterrand\, Avesnes-le-Comte\, 62810\, France Métropolitaine
CATEGORIES:Communauté de Communes
END:VEVENT
END:VCALENDAR