BEGIN:VCALENDAR
VERSION:2.0
PRODID:-// - ECPv4.6.16//NONSGML v1.0//EN
CALSCALE:GREGORIAN
METHOD:PUBLISH
X-ORIGINAL-URL:http://www.letrognon.com/bienvillers
X-WR-CALDESC:Events for 
BEGIN:VEVENT
DTSTART;TZID=Europe/Paris:20180424T183000
DTEND;TZID=Europe/Paris:20180424T220000
DTSTAMP:20260422T084817
CREATED:20180417T072953Z
LAST-MODIFIED:20180417T073037Z
UID:2010-1524594600-1524607200@www.letrognon.com
SUMMARY:Réunion publique du plan local d'urbanisme intercommunal
DESCRIPTION:\n
URL:http://www.letrognon.com/bienvillers/event/reunion-publique-du-plan-local-urbanisme-intercommunal/
LOCATION:Place de la Mairie\, Saulty\, 62158\, France
CATEGORIES:Communauté de Communes
ATTACH;FMTTYPE=image/jpeg:http://www.letrognon.com/bienvillers/wp-content/uploads/2017/11/logo-communauté-de-communes-campagne-artois.jpg
END:VEVENT
END:VCALENDAR