BEGIN:VCALENDAR
VERSION:2.0
PRODID:-// - ECPv4.6.16//NONSGML v1.0//EN
CALSCALE:GREGORIAN
METHOD:PUBLISH
X-ORIGINAL-URL:http://www.letrognon.com/bienvillers
X-WR-CALDESC:Events for 
BEGIN:VEVENT
DTSTART;TZID=Europe/Paris:20170511T183000
DTEND;TZID=Europe/Paris:20170511T213000
DTSTAMP:20260422T034742
CREATED:20170421T120303Z
LAST-MODIFIED:20170421T120303Z
UID:917-1494527400-1494538200@www.letrognon.com
SUMMARY:Réunion publique assainissement
DESCRIPTION:Retrouver ci-joint l’invitation à la réunion publique assainissement du jeudi 11 mai 2017 à 18h30 à la Salle Polyvalente située rue de la LouvièreView Fullscreen  \n
URL:http://www.letrognon.com/bienvillers/event/reunion-publique-assainissement/
LOCATION:rue de la Louvière\, BIENVILLERS AU BOIS\, Région des Hauts de France\, 62 111\, France Métropolitaine
CATEGORIES:Mairie
END:VEVENT
END:VCALENDAR