BEGIN:VCALENDAR
VERSION:2.0
PRODID:-// - ECPv4.6.16//NONSGML v1.0//EN
CALSCALE:GREGORIAN
METHOD:PUBLISH
X-ORIGINAL-URL:http://www.letrognon.com/bienvillers
X-WR-CALDESC:Events for 
BEGIN:VEVENT
DTSTART;TZID=Europe/Paris:20170427T190000
DTEND;TZID=Europe/Paris:20170427T210000
DTSTAMP:20260421T231838
CREATED:20170320T154448Z
LAST-MODIFIED:20170320T154449Z
UID:837-1493319600-1493326800@www.letrognon.com
SUMMARY:Réunion de préparation de la fête communale
DESCRIPTION:La réunion de préparation de la fête communale 2017 a lieu le jeudi 27 avril 2017 à 19h en Salle de Conseil. \n
URL:http://www.letrognon.com/bienvillers/event/reunion-preparation-fete-communale/
CATEGORIES:Mairie
END:VEVENT
END:VCALENDAR