BEGIN:VCALENDAR
VERSION:2.0
PRODID:-// - ECPv4.6.16//NONSGML v1.0//EN
CALSCALE:GREGORIAN
METHOD:PUBLISH
X-ORIGINAL-URL:http://www.letrognon.com/bienvillers
X-WR-CALDESC:Events for 
BEGIN:VEVENT
DTSTART;TZID=Europe/Paris:20181129T190000
DTEND;TZID=Europe/Paris:20181129T220000
DTSTAMP:20260421T213503
CREATED:20181119T130338Z
LAST-MODIFIED:20181119T130338Z
UID:2694-1543518000-1543528800@www.letrognon.com
SUMMARY:Réunion fête communale
DESCRIPTION:La réunion  de préparation pour la fête communale a lieu le jeudi 29 novembre 2018 à 19h00 en salle de conseil. \n
URL:http://www.letrognon.com/bienvillers/event/reunion-fete-communale-2/
CATEGORIES:Mairie,Vie associative
END:VEVENT
END:VCALENDAR