BEGIN:VCALENDAR
VERSION:2.0
PRODID:-// - ECPv4.6.16//NONSGML v1.0//EN
CALSCALE:GREGORIAN
METHOD:PUBLISH
X-ORIGINAL-URL:http://www.letrognon.com/bienvillers
X-WR-CALDESC:Events for 
BEGIN:VEVENT
DTSTART;TZID=Europe/Paris:20180509T100000
DTEND;TZID=Europe/Paris:20180509T120000
DTSTAMP:20260422T004711
CREATED:20180505T063537Z
LAST-MODIFIED:20180505T063537Z
UID:2068-1525860000-1525867200@www.letrognon.com
SUMMARY:Réunion étude hydraulique
DESCRIPTION:La réunion sur l’étude hydraulique a lieu le mercredi 9 mai 2018 à 10h en Mairie. \n
URL:http://www.letrognon.com/bienvillers/event/reunion-etude-hydraulique/
CATEGORIES:Mairie
END:VEVENT
END:VCALENDAR