BEGIN:VCALENDAR
VERSION:2.0
PRODID:-// - ECPv4.6.16//NONSGML v1.0//EN
CALSCALE:GREGORIAN
METHOD:PUBLISH
X-ORIGINAL-URL:http://www.letrognon.com/bienvillers
X-WR-CALDESC:Events for 
BEGIN:VEVENT
DTSTART;TZID=Europe/Paris:20170928T180000
DTEND;TZID=Europe/Paris:20170928T200000
DTSTAMP:20260422T134238
CREATED:20170915T134119Z
LAST-MODIFIED:20170915T134119Z
UID:1254-1506621600-1506628800@www.letrognon.com
SUMMARY:Réunion éco rénovation
DESCRIPTION:Venez échanger sur votre projet !\nLa réunion sur l’éco-rénovation a lieu le jeudi 28 septembre 2017\, à 18h00\, à la salle polyvalente de Pas-en-Artois. \n\nDécouvrez l’ensemble du programme en cliquant ici. \n
URL:http://www.letrognon.com/bienvillers/event/reunion-eco-renovation/
LOCATION:rue Basse Boulogne\, Pas-en-Artois\, 62760
CATEGORIES:Communauté de Communes
END:VEVENT
END:VCALENDAR