BEGIN:VCALENDAR
VERSION:2.0
PRODID:-// - ECPv4.6.16//NONSGML v1.0//EN
CALSCALE:GREGORIAN
METHOD:PUBLISH
X-ORIGINAL-URL:http://www.letrognon.com/bienvillers
X-WR-CALDESC:Events for 
BEGIN:VEVENT
DTSTART;TZID=Europe/Paris:20181220T190000
DTEND;TZID=Europe/Paris:20181220T203000
DTSTAMP:20260421T231000
CREATED:20180926T122630Z
LAST-MODIFIED:20180926T122630Z
UID:2547-1545332400-1545337800@www.letrognon.com
SUMMARY:Réunion du Conseil Municipal
DESCRIPTION:Le Conseil Municipal se réunit le jeudi 20 décembre 2018 à 19h00. \n
URL:http://www.letrognon.com/bienvillers/event/reunion-du-conseil-municipal-9/
CATEGORIES:Mairie
END:VEVENT
END:VCALENDAR