BEGIN:VCALENDAR
VERSION:2.0
PRODID:-// - ECPv4.6.16//NONSGML v1.0//EN
CALSCALE:GREGORIAN
METHOD:PUBLISH
X-ORIGINAL-URL:http://www.letrognon.com/bienvillers
X-WR-CALDESC:Events for 
BEGIN:VEVENT
DTSTART;TZID=Europe/Paris:20180920T080000
DTEND;TZID=Europe/Paris:20180920T170000
DTSTAMP:20260422T020340
CREATED:20180505T064550Z
LAST-MODIFIED:20180505T064550Z
UID:2077-1537430400-1537462800@www.letrognon.com
SUMMARY:Réunion du Conseil Municipal
DESCRIPTION:Le Conseil Municipal se réunit le jeudi 20 septembre 2018 à 19h00. \n
URL:http://www.letrognon.com/bienvillers/event/reunion-du-conseil-municipal-6/
CATEGORIES:Mairie
END:VEVENT
END:VCALENDAR