BEGIN:VCALENDAR
VERSION:2.0
PRODID:-// - ECPv4.6.16//NONSGML v1.0//EN
CALSCALE:GREGORIAN
METHOD:PUBLISH
X-ORIGINAL-URL:http://www.letrognon.com/bienvillers
X-WR-CALDESC:Events for 
BEGIN:VEVENT
DTSTART;TZID=Europe/Paris:20180322T190000
DTEND;TZID=Europe/Paris:20180322T210000
DTSTAMP:20260422T053643
CREATED:20180303T075345Z
LAST-MODIFIED:20180303T075345Z
UID:1883-1521745200-1521752400@www.letrognon.com
SUMMARY:Réunion du Conseil Municipal
DESCRIPTION:Le Conseil Municipal se réunit le jeudi 22 mars 2018 à 19h en Salle de Conseil. \n
URL:http://www.letrognon.com/bienvillers/event/reunion-du-conseil-municipal-2/
CATEGORIES:Mairie
END:VEVENT
END:VCALENDAR