BEGIN:VCALENDAR
VERSION:2.0
PRODID:-// - ECPv4.6.16//NONSGML v1.0//EN
CALSCALE:GREGORIAN
METHOD:PUBLISH
X-ORIGINAL-URL:http://www.letrognon.com/bienvillers
X-WR-CALDESC:Events for 
BEGIN:VEVENT
DTSTART;TZID=Europe/Paris:20220928T190000
DTEND;TZID=Europe/Paris:20220928T210000
DTSTAMP:20260422T161807
CREATED:20220925T173642Z
LAST-MODIFIED:20220925T173642Z
UID:6546-1664391600-1664398800@www.letrognon.com
SUMMARY:Réunion du Conseil Municipal
DESCRIPTION:Le Conseil Municipal se réunit le mercredi 28 septembre 2022 à 19h00 en Salle de Conseil. \n\n
URL:http://www.letrognon.com/bienvillers/event/reunion-du-conseil-municipal-16/
END:VEVENT
END:VCALENDAR