BEGIN:VCALENDAR
VERSION:2.0
PRODID:-// - ECPv4.6.16//NONSGML v1.0//EN
CALSCALE:GREGORIAN
METHOD:PUBLISH
X-ORIGINAL-URL:http://www.letrognon.com/bienvillers
X-WR-CALDESC:Events for 
BEGIN:VEVENT
DTSTART;TZID=Europe/Paris:20190313T190000
DTEND;TZID=Europe/Paris:20190313T203000
DTSTAMP:20260421T182116
CREATED:20190306T150706Z
LAST-MODIFIED:20190306T150706Z
UID:3066-1552503600-1552509000@www.letrognon.com
SUMMARY:Réunion du Conseil Municipal
DESCRIPTION:Le Conseil Municipal se réunit en session extraordinaire le mercredi 13 mars 2019 à 19h00. \n
URL:http://www.letrognon.com/bienvillers/event/reunion-du-conseil-municipal-13/
CATEGORIES:Mairie
END:VEVENT
END:VCALENDAR