BEGIN:VCALENDAR
VERSION:2.0
PRODID:-// - ECPv4.6.16//NONSGML v1.0//EN
CALSCALE:GREGORIAN
METHOD:PUBLISH
X-ORIGINAL-URL:http://www.letrognon.com/bienvillers
X-WR-CALDESC:Events for 
BEGIN:VEVENT
DTSTART;TZID=Europe/Paris:20191114T190000
DTEND;TZID=Europe/Paris:20191114T220000
DTSTAMP:20260421T025233
CREATED:20191108T103046Z
LAST-MODIFIED:20191108T103046Z
UID:3722-1573758000-1573768800@www.letrognon.com
SUMMARY:Réunion du Conseil Municipal
DESCRIPTION:Le Conseil Municipal se réunit le jeudi 14 novembre 2019 à 19h00. \n
URL:http://www.letrognon.com/bienvillers/event/reunion-du-conseil-municipal-11/
CATEGORIES:Mairie
END:VEVENT
END:VCALENDAR