BEGIN:VCALENDAR
VERSION:2.0
PRODID:-// - ECPv4.6.16//NONSGML v1.0//EN
CALSCALE:GREGORIAN
METHOD:PUBLISH
X-ORIGINAL-URL:http://www.letrognon.com/bienvillers
X-WR-CALDESC:Events for 
BEGIN:VEVENT
DTSTART;TZID=Europe/Paris:20190227T190000
DTEND;TZID=Europe/Paris:20190227T203000
DTSTAMP:20260421T182048
CREATED:20190201T150534Z
LAST-MODIFIED:20190212T124400Z
UID:2976-1551294000-1551299400@www.letrognon.com
SUMMARY:Réunion du Conseil Municipal
DESCRIPTION:Le Conseil Municipal se réunit le jeudi 21 février 2019 à 19h00. \n
URL:http://www.letrognon.com/bienvillers/event/reunion-du-conseil-municipal-10/
LOCATION:Mairie de Bienvillers au Bois\, BIENVILLERS AU BOIS\, 62 111
CATEGORIES:Mairie
END:VEVENT
END:VCALENDAR