BEGIN:VCALENDAR
VERSION:2.0
PRODID:-// - ECPv4.6.16//NONSGML v1.0//EN
CALSCALE:GREGORIAN
METHOD:PUBLISH
X-ORIGINAL-URL:http://www.letrognon.com/bienvillers
X-WR-CALDESC:Events for 
BEGIN:VEVENT
DTSTART;TZID=Europe/Paris:20170626T190000
DTEND;TZID=Europe/Paris:20170626T200000
DTSTAMP:20260421T231247
CREATED:20170606T082638Z
LAST-MODIFIED:20170606T082638Z
UID:1072-1498503600-1498507200@www.letrognon.com
SUMMARY:Réunion du CCAS
DESCRIPTION:Le CCAS se réunit le lundi 26 juin 2017 à 19h00 en Mairie. \n
URL:http://www.letrognon.com/bienvillers/event/reunion-du-ccas/
LOCATION:Mairie de Bienvillers au Bois\, BIENVILLERS AU BOIS\, 62 111
CATEGORIES:Mairie
END:VEVENT
END:VCALENDAR