BEGIN:VCALENDAR
VERSION:2.0
PRODID:-// - ECPv4.6.16//NONSGML v1.0//EN
CALSCALE:GREGORIAN
METHOD:PUBLISH
X-ORIGINAL-URL:http://www.letrognon.com/bienvillers
X-WR-CALDESC:Events for 
BEGIN:VEVENT
DTSTART;TZID=Europe/Paris:20191031T193000
DTEND;TZID=Europe/Paris:20191031T235900
DTSTAMP:20260421T044203
CREATED:20191023T075550Z
LAST-MODIFIED:20191023T075550Z
UID:3644-1572550200-1572566340@www.letrognon.com
SUMMARY:Repas du Sporting Club Artésien
DESCRIPTION:\n
URL:http://www.letrognon.com/bienvillers/event/repas-du-sporting-club-artesien-2/
CATEGORIES:Sport,Vie associative
END:VEVENT
END:VCALENDAR