BEGIN:VCALENDAR
VERSION:2.0
PRODID:-// - ECPv4.6.16//NONSGML v1.0//EN
CALSCALE:GREGORIAN
METHOD:PUBLISH
X-ORIGINAL-URL:http://www.letrognon.com/bienvillers
X-WR-CALDESC:Events for 
BEGIN:VEVENT
DTSTART;TZID=Europe/Paris:20181111T120000
DTEND;TZID=Europe/Paris:20181111T170000
DTSTAMP:20260422T004632
CREATED:20181006T094111Z
LAST-MODIFIED:20181006T094111Z
UID:2539-1541937600-1541955600@www.letrognon.com
SUMMARY:Repas des anciens combattants
DESCRIPTION:Le repas des anciens combattants a lieu le dimanche 11 novembre à partir de 12h00 à la salle polyvalente. \n
URL:http://www.letrognon.com/bienvillers/event/repas-des-anciens-combattants/
CATEGORIES:Vie associative
END:VEVENT
END:VCALENDAR