BEGIN:VCALENDAR
VERSION:2.0
PRODID:-// - ECPv4.6.16//NONSGML v1.0//EN
CALSCALE:GREGORIAN
METHOD:PUBLISH
X-ORIGINAL-URL:http://www.letrognon.com/bienvillers
X-WR-CALDESC:Events for 
BEGIN:VEVENT
DTSTART;TZID=Europe/Paris:20161217T130000
DTEND;TZID=Europe/Paris:20161217T170000
DTSTAMP:20260423T072741
CREATED:20161201T112453Z
LAST-MODIFIED:20161201T112453Z
UID:313-1481979600-1481994000@www.letrognon.com
SUMMARY:Repas des aînés
DESCRIPTION:
URL:http://www.letrognon.com/bienvillers/event/repas-des-aines/
END:VEVENT
END:VCALENDAR