BEGIN:VCALENDAR
VERSION:2.0
PRODID:-// - ECPv4.6.16//NONSGML v1.0//EN
CALSCALE:GREGORIAN
METHOD:PUBLISH
X-ORIGINAL-URL:http://www.letrognon.com/bienvillers
X-WR-CALDESC:Events for 
BEGIN:VEVENT
DTSTART;TZID=Europe/Paris:20171031T193000
DTEND;TZID=Europe/Paris:20171101T020000
DTSTAMP:20260422T022323
CREATED:20170926T081924Z
LAST-MODIFIED:20170926T081924Z
UID:1277-1509478200-1509501600@www.letrognon.com
SUMMARY:Repas dansant du Sporting Club Artésien
DESCRIPTION:Le Sporting Club Artésien vous invite à participer à son repas dansant le mardi 31 octobre 2017\, à partir de 19h30\, à la salle polyvalente rue de la Louvière. \n\n
URL:http://www.letrognon.com/bienvillers/event/repas-dansant-sporting-club-artesien/
LOCATION:rue de la Louvière\, BIENVILLERS AU BOIS\, Région des Hauts de France\, 62 111\, France Métropolitaine
CATEGORIES:Vie associative
END:VEVENT
END:VCALENDAR