BEGIN:VCALENDAR
VERSION:2.0
PRODID:-// - ECPv4.6.16//NONSGML v1.0//EN
CALSCALE:GREGORIAN
METHOD:PUBLISH
X-ORIGINAL-URL:http://www.letrognon.com/bienvillers
X-WR-CALDESC:Events for 
BEGIN:VEVENT
DTSTART;TZID=Europe/Paris:20180317T193000
DTEND;TZID=Europe/Paris:20180317T193000
DTSTAMP:20260422T070210
CREATED:20180209T135055Z
LAST-MODIFIED:20180303T074222Z
UID:1841-1521315000-1521315000@www.letrognon.com
SUMMARY:Repas dansant de la Société de Chasse
DESCRIPTION:Le repas dansant de la Société de Chasse de Bienvillers a lieu le samedi 17 mars 2018 à la salle polyvalente rue de la Louvière ! \n
URL:http://www.letrognon.com/bienvillers/event/repas-dansant-societe-de-chasse/
CATEGORIES:Vie associative
END:VEVENT
END:VCALENDAR