BEGIN:VCALENDAR
VERSION:2.0
PRODID:-// - ECPv4.6.16//NONSGML v1.0//EN
CALSCALE:GREGORIAN
METHOD:PUBLISH
X-ORIGINAL-URL:http://www.letrognon.com/bienvillers
X-WR-CALDESC:Events for 
BEGIN:VEVENT
DTSTART;TZID=Europe/Paris:20181125T120000
DTEND;TZID=Europe/Paris:20181125T180000
DTSTAMP:20260422T004824
CREATED:20181119T110447Z
LAST-MODIFIED:20181119T130531Z
UID:2688-1543147200-1543168800@www.letrognon.com
SUMMARY:Repas annuel de la Societe L'Hirondelle
DESCRIPTION:Le dimanche 25 novembre 2018 a lieu à partir de 12h\, à la salle polyvalente\, la remise des prix et le repas annuel de la Société L”Hirondelle de Bienvillers-au-Bois. \n \n
URL:http://www.letrognon.com/bienvillers/event/repas-annuel-societe-lhirondelle/
LOCATION:rue de la Louvière\, BIENVILLERS AU BOIS\, Région des Hauts de France\, 62 111\, France Métropolitaine
CATEGORIES:Vie associative
END:VEVENT
END:VCALENDAR