BEGIN:VCALENDAR
VERSION:2.0
PRODID:-// - ECPv4.6.16//NONSGML v1.0//EN
CALSCALE:GREGORIAN
METHOD:PUBLISH
X-ORIGINAL-URL:http://www.letrognon.com/bienvillers
X-WR-CALDESC:Events for 
BEGIN:VEVENT
DTSTART;TZID=Europe/Paris:20180304T120000
DTEND;TZID=Europe/Paris:20180304T180000
DTSTAMP:20260422T053552
CREATED:20180204T070042Z
LAST-MODIFIED:20180130T124236Z
UID:1802-1520164800-1520186400@www.letrognon.com
SUMMARY:Repas annuel de la société L'Hirondelle
DESCRIPTION:Le repas annuel de la société L’Hirondelle a lieu le dimanche 4 mars 2018 à partir de 12h00 à la salle polyvalente rue de la Louvière ! \n\n
URL:http://www.letrognon.com/bienvillers/event/repas-annuel-societe-hirondelle/
CATEGORIES:Vie associative
END:VEVENT
END:VCALENDAR