BEGIN:VCALENDAR
VERSION:2.0
PRODID:-// - ECPv4.6.16//NONSGML v1.0//EN
CALSCALE:GREGORIAN
METHOD:PUBLISH
X-ORIGINAL-URL:http://www.letrognon.com/bienvillers
X-WR-CALDESC:Events for 
BEGIN:VEVENT
DTSTART;TZID=Europe/Paris:20191124T120000
DTEND;TZID=Europe/Paris:20191124T200000
DTSTAMP:20260421T025234
CREATED:20191112T082431Z
LAST-MODIFIED:20191112T082431Z
UID:3726-1574596800-1574625600@www.letrognon.com
SUMMARY:Repas annuel de la Société L'Hirondelle
DESCRIPTION:\n
URL:http://www.letrognon.com/bienvillers/event/repas-annuel-de-la-societe-lhirondelle/
CATEGORIES:Vie associative
END:VEVENT
END:VCALENDAR