BEGIN:VCALENDAR
VERSION:2.0
PRODID:-// - ECPv4.6.16//NONSGML v1.0//EN
CALSCALE:GREGORIAN
METHOD:PUBLISH
X-ORIGINAL-URL:http://www.letrognon.com/bienvillers
X-WR-CALDESC:Events for 
BEGIN:VEVENT
DTSTART;TZID=Europe/Paris:20190309T190000
DTEND;TZID=Europe/Paris:20190309T235900
DTSTAMP:20260421T181540
CREATED:20190201T151023Z
LAST-MODIFIED:20190201T151023Z
UID:2982-1552158000-1552175940@www.letrognon.com
SUMMARY:Repas de l'Amicale des Pongistes
DESCRIPTION:Le repas de l’Amicale des Pongistes a lieu le samedi 9 mars 2019 à partir de 19h00 à la salle polyvalente ! \n
URL:http://www.letrognon.com/bienvillers/event/repas-amicale-pongistes/
LOCATION:rue de la Louvière\, BIENVILLERS AU BOIS\, Région des Hauts de France\, 62 111\, France Métropolitaine
CATEGORIES:Vie associative
END:VEVENT
END:VCALENDAR