BEGIN:VCALENDAR
VERSION:2.0
PRODID:-// - ECPv4.6.16//NONSGML v1.0//EN
CALSCALE:GREGORIAN
METHOD:PUBLISH
X-ORIGINAL-URL:http://www.letrognon.com/bienvillers
X-WR-CALDESC:Events for 
BEGIN:VEVENT
DTSTART;TZID=Europe/Paris:20161017T080000
DTEND;TZID=Europe/Paris:20161017T170000
DTSTAMP:20260423T125604
CREATED:20161017T110106Z
LAST-MODIFIED:20161017T112316Z
UID:123-1476691200-1476723600@www.letrognon.com
SUMMARY:Rendez-vous 1
DESCRIPTION:gbregbgg ses dgsd gsdg sdgds gdq gdsg qdgqd gqdg qdg qg qdgqd \n
URL:http://www.letrognon.com/bienvillers/event/rendez-vous-1/
END:VEVENT
END:VCALENDAR