BEGIN:VCALENDAR
VERSION:2.0
PRODID:-// - ECPv4.6.16//NONSGML v1.0//EN
CALSCALE:GREGORIAN
METHOD:PUBLISH
X-ORIGINAL-URL:http://www.letrognon.com/bienvillers
X-WR-CALDESC:Events for 
BEGIN:VEVENT
DTSTART;TZID=Europe/Paris:20170703T180000
DTEND;TZID=Europe/Paris:20170703T200000
DTSTAMP:20260421T230524
CREATED:20170626T072813Z
LAST-MODIFIED:20170626T072813Z
UID:1151-1499104800-1499112000@www.letrognon.com
SUMMARY:Les rencontres du Scota
DESCRIPTION:Lundi 3 juillet 2017 à 18h à l’Atria Mercure à Arras\, rencontre sur le Scota de l’Arrageois (Schéma de Cohérence Territorial). \n
URL:http://www.letrognon.com/bienvillers/event/rencontres-scota/
LOCATION:58 Boulevard Carnot\, Arras\, 62000\, France
CATEGORIES:Mairie
END:VEVENT
END:VCALENDAR