BEGIN:VCALENDAR
VERSION:2.0
PRODID:-// - ECPv4.6.16//NONSGML v1.0//EN
CALSCALE:GREGORIAN
METHOD:PUBLISH
X-ORIGINAL-URL:http://www.letrognon.com/bienvillers
X-WR-CALDESC:Events for 
BEGIN:VEVENT
DTSTART;TZID=Europe/Paris:20180629T173000
DTEND;TZID=Europe/Paris:20180629T183000
DTSTAMP:20260421T232014
CREATED:20171219T160737Z
LAST-MODIFIED:20171219T160737Z
UID:1713-1530293400-1530297000@www.letrognon.com
SUMMARY:Remise des dictionnaires aux futurs collégiens
DESCRIPTION:La remise des dictionnaires aux futurs collégiens de la commune aura lieu le vendredi 29 juin 2018 à partir de 17h30 dans la cour de l’école. \n
URL:http://www.letrognon.com/bienvillers/event/remise-dictionnaires-futurs-collegiens/
LOCATION:3 rue de Pommier\, BIENVILLERS AU BOIS\, 62 111
CATEGORIES:Mairie
ORGANIZER;CN="Mairie%20de%20Bienvillers%20au%20Bois":MAILTO:mairie@bienvillers.org
END:VEVENT
END:VCALENDAR