BEGIN:VCALENDAR
VERSION:2.0
PRODID:-// - ECPv4.6.16//NONSGML v1.0//EN
CALSCALE:GREGORIAN
METHOD:PUBLISH
X-ORIGINAL-URL:http://www.letrognon.com/bienvillers
X-WR-CALDESC:Events for 
BEGIN:VEVENT
DTSTART;TZID=Europe/Paris:20200115T090000
DTEND;TZID=Europe/Paris:20200115T120000
DTSTAMP:20260421T010016
CREATED:20191218T141449Z
LAST-MODIFIED:20191218T141449Z
UID:3767-1579078800-1579089600@www.letrognon.com
SUMMARY:Relais “Ô P’tits Mômes”
DESCRIPTION:Le relais assistante maternelle a lieu le mercredi 15 janvier 2020 de 9h à 12h dans le hall d’accueil de l’école. \n
URL:http://www.letrognon.com/bienvillers/event/relais-o-ptits-momes-7/
LOCATION:3 rue de Pommier\, BIENVILLERS AU BOIS\, 62 111
END:VEVENT
END:VCALENDAR