BEGIN:VCALENDAR
VERSION:2.0
PRODID:-// - ECPv4.6.16//NONSGML v1.0//EN
CALSCALE:GREGORIAN
METHOD:PUBLISH
X-ORIGINAL-URL:http://www.letrognon.com/bienvillers
X-WR-CALDESC:Events for 
BEGIN:VEVENT
DTSTART;TZID=Europe/Paris:20190925T090000
DTEND;TZID=Europe/Paris:20190925T120000
DTSTAMP:20260421T060108
CREATED:20190906T111456Z
LAST-MODIFIED:20190906T111456Z
UID:3492-1569402000-1569412800@www.letrognon.com
SUMMARY:Relais "Ô P'tits Mômes"
DESCRIPTION:Le relais assistante maternelle a lieu le mercredi 25 septembre 2019 de 9h à 12h dans le hall d’accueil de l’école. \n
URL:http://www.letrognon.com/bienvillers/event/relais-o-ptits-momes-2/
LOCATION:3 rue de Pommier\, BIENVILLERS AU BOIS\, 62 111
CATEGORIES:Communauté de Communes,Mairie
END:VEVENT
END:VCALENDAR