BEGIN:VCALENDAR
VERSION:2.0
PRODID:-// - ECPv4.6.16//NONSGML v1.0//EN
CALSCALE:GREGORIAN
METHOD:PUBLISH
X-ORIGINAL-URL:http://www.letrognon.com/bienvillers
X-WR-CALDESC:Events for 
BEGIN:VEVENT
DTSTART;TZID=Europe/Paris:20191205T174500
DTEND;TZID=Europe/Paris:20191205T183000
DTSTAMP:20260421T025126
CREATED:20190906T140520Z
LAST-MODIFIED:20190906T140520Z
UID:3532-1575567900-1575570600@www.letrognon.com
SUMMARY:Récré Juniors 4/5/6 ans
DESCRIPTION:L’animation sportive a lieu le jeudi 5 décembre 2019 de 17h45 à 18h30 à la salle polyvalente rue de la Louvière. \n
URL:http://www.letrognon.com/bienvillers/event/recre-juniors-456-ans-8/
LOCATION:rue de la Louvière\, BIENVILLERS AU BOIS\, Région des Hauts de France\, 62 111\, France Métropolitaine
CATEGORIES:Communauté de Communes,Mairie,Sport
END:VEVENT
END:VCALENDAR