BEGIN:VCALENDAR
VERSION:2.0
PRODID:-// - ECPv4.6.16//NONSGML v1.0//EN
CALSCALE:GREGORIAN
METHOD:PUBLISH
X-ORIGINAL-URL:http://www.letrognon.com/bienvillers
X-WR-CALDESC:Events for 
BEGIN:VEVENT
DTSTART;TZID=Europe/Paris:20180510T080000
DTEND;TZID=Europe/Paris:20180510T200000
DTSTAMP:20260421T213716
CREATED:20171220T152621Z
LAST-MODIFIED:20171220T152621Z
UID:1750-1525939200-1525982400@www.letrognon.com
SUMMARY:Raid'Dingue de l'Artois 9eme édition
DESCRIPTION:\n
URL:http://www.letrognon.com/bienvillers/event/raiddingue-lartois-9eme-edition/
CATEGORIES:Communauté de Communes,Sport
ATTACH;FMTTYPE=image/jpeg:http://www.letrognon.com/bienvillers/wp-content/uploads/2017/11/logo-communauté-de-communes-campagne-artois.jpg
END:VEVENT
END:VCALENDAR