BEGIN:VCALENDAR
VERSION:2.0
PRODID:-// - ECPv4.6.16//NONSGML v1.0//EN
CALSCALE:GREGORIAN
METHOD:PUBLISH
X-ORIGINAL-URL:http://www.letrognon.com/bienvillers
X-WR-CALDESC:Events for 
BEGIN:VEVENT
DTSTART;TZID=Europe/Paris:20161230T190000
DTEND;TZID=Europe/Paris:20161230T210000
DTSTAMP:20260423T055431
CREATED:20161201T112538Z
LAST-MODIFIED:20161201T112538Z
UID:317-1483124400-1483131600@www.letrognon.com
SUMMARY:Présentation du site Internet
DESCRIPTION:
URL:http://www.letrognon.com/bienvillers/event/presentation-du-site-internet/
END:VEVENT
END:VCALENDAR